BEGIN:VCALENDAR
VERSION:2.0
PRODID:-//Vacaville Christian School - ECPv6.15.20//NONSGML v1.0//EN
CALSCALE:GREGORIAN
METHOD:PUBLISH
X-ORIGINAL-URL:https://www.go-vcs.com
X-WR-CALDESC:Events for Vacaville Christian School
REFRESH-INTERVAL;VALUE=DURATION:PT1H
X-Robots-Tag:noindex
X-PUBLISHED-TTL:PT1H
BEGIN:VTIMEZONE
TZID:America/Los_Angeles
BEGIN:DAYLIGHT
TZOFFSETFROM:-0800
TZOFFSETTO:-0700
TZNAME:PDT
DTSTART:20250309T100000
END:DAYLIGHT
BEGIN:STANDARD
TZOFFSETFROM:-0700
TZOFFSETTO:-0800
TZNAME:PST
DTSTART:20251102T090000
END:STANDARD
BEGIN:DAYLIGHT
TZOFFSETFROM:-0800
TZOFFSETTO:-0700
TZNAME:PDT
DTSTART:20260308T100000
END:DAYLIGHT
BEGIN:STANDARD
TZOFFSETFROM:-0700
TZOFFSETTO:-0800
TZNAME:PST
DTSTART:20261101T090000
END:STANDARD
BEGIN:DAYLIGHT
TZOFFSETFROM:-0800
TZOFFSETTO:-0700
TZNAME:PDT
DTSTART:20270314T100000
END:DAYLIGHT
BEGIN:STANDARD
TZOFFSETFROM:-0700
TZOFFSETTO:-0800
TZNAME:PST
DTSTART:20271107T090000
END:STANDARD
END:VTIMEZONE
BEGIN:VEVENT
DTSTART;TZID=America/Los_Angeles:20260331T170000
DTEND;TZID=America/Los_Angeles:20260331T200000
DTSTAMP:20260420T070350
CREATED:20260323T231849Z
LAST-MODIFIED:20260401T022820Z
UID:10001360-1774976400-1774987200@www.go-vcs.com
SUMMARY:Boys Volleyball VS Vanden
DESCRIPTION:
URL:https://www.go-vcs.com/event/boys-volleyball-vs-vanden/
LOCATION:Vanden High School\, 2951 Markeley Ln\, Fairfield\, CA\, United States
GEO:38.283303;-121.969448
X-APPLE-STRUCTURED-LOCATION;VALUE=URI;X-ADDRESS=Vanden High School 2951 Markeley Ln Fairfield CA United States;X-APPLE-RADIUS=500;X-TITLE=2951 Markeley Ln:geo:-121.969448,38.283303
END:VEVENT
END:VCALENDAR