BEGIN:VCALENDAR
VERSION:2.0
PRODID:-//Vacaville Christian School - ECPv6.15.20//NONSGML v1.0//EN
CALSCALE:GREGORIAN
METHOD:PUBLISH
X-ORIGINAL-URL:https://www.go-vcs.com
X-WR-CALDESC:Events for Vacaville Christian School
REFRESH-INTERVAL;VALUE=DURATION:PT1H
X-Robots-Tag:noindex
X-PUBLISHED-TTL:PT1H
BEGIN:VTIMEZONE
TZID:America/Los_Angeles
BEGIN:DAYLIGHT
TZOFFSETFROM:-0800
TZOFFSETTO:-0700
TZNAME:PDT
DTSTART:20250309T100000
END:DAYLIGHT
BEGIN:STANDARD
TZOFFSETFROM:-0700
TZOFFSETTO:-0800
TZNAME:PST
DTSTART:20251102T090000
END:STANDARD
BEGIN:DAYLIGHT
TZOFFSETFROM:-0800
TZOFFSETTO:-0700
TZNAME:PDT
DTSTART:20260308T100000
END:DAYLIGHT
BEGIN:STANDARD
TZOFFSETFROM:-0700
TZOFFSETTO:-0800
TZNAME:PST
DTSTART:20261101T090000
END:STANDARD
BEGIN:DAYLIGHT
TZOFFSETFROM:-0800
TZOFFSETTO:-0700
TZNAME:PDT
DTSTART:20270314T100000
END:DAYLIGHT
BEGIN:STANDARD
TZOFFSETFROM:-0700
TZOFFSETTO:-0800
TZNAME:PST
DTSTART:20271107T090000
END:STANDARD
END:VTIMEZONE
BEGIN:VEVENT
DTSTART;TZID=America/Los_Angeles:20260331T160000
DTEND;TZID=America/Los_Angeles:20260331T190000
DTSTAMP:20260420T174051
CREATED:20260308T041338Z
LAST-MODIFIED:20260401T012810Z
UID:10001351-1774972800-1774983600@www.go-vcs.com
SUMMARY:Golf VS Lindhurst
DESCRIPTION:
URL:https://www.go-vcs.com/event/golf-vs-lindhurst/
LOCATION:Plumas Lake Golf Club\, 1551 Country Club Rd\, Olivehurst\, CA\, United States
CATEGORIES:High School Athletics
GEO:39.033307;-121.561412
X-APPLE-STRUCTURED-LOCATION;VALUE=URI;X-ADDRESS=Plumas Lake Golf Club 1551 Country Club Rd Olivehurst CA United States;X-APPLE-RADIUS=500;X-TITLE=1551 Country Club Rd:geo:-121.561412,39.033307
END:VEVENT
END:VCALENDAR