BEGIN:VCALENDAR
VERSION:2.0
PRODID:-//Vacaville Christian School - ECPv6.15.20//NONSGML v1.0//EN
CALSCALE:GREGORIAN
METHOD:PUBLISH
X-WR-CALNAME:Vacaville Christian School
X-ORIGINAL-URL:https://www.go-vcs.com
X-WR-CALDESC:Events for Vacaville Christian School
REFRESH-INTERVAL;VALUE=DURATION:PT1H
X-Robots-Tag:noindex
X-PUBLISHED-TTL:PT1H
BEGIN:VTIMEZONE
TZID:America/Los_Angeles
BEGIN:DAYLIGHT
TZOFFSETFROM:-0800
TZOFFSETTO:-0700
TZNAME:PDT
DTSTART:20250309T100000
END:DAYLIGHT
BEGIN:STANDARD
TZOFFSETFROM:-0700
TZOFFSETTO:-0800
TZNAME:PST
DTSTART:20251102T090000
END:STANDARD
BEGIN:DAYLIGHT
TZOFFSETFROM:-0800
TZOFFSETTO:-0700
TZNAME:PDT
DTSTART:20260308T100000
END:DAYLIGHT
BEGIN:STANDARD
TZOFFSETFROM:-0700
TZOFFSETTO:-0800
TZNAME:PST
DTSTART:20261101T090000
END:STANDARD
BEGIN:DAYLIGHT
TZOFFSETFROM:-0800
TZOFFSETTO:-0700
TZNAME:PDT
DTSTART:20270314T100000
END:DAYLIGHT
BEGIN:STANDARD
TZOFFSETFROM:-0700
TZOFFSETTO:-0800
TZNAME:PST
DTSTART:20271107T090000
END:STANDARD
END:VTIMEZONE
BEGIN:VEVENT
DTSTART;VALUE=DATE:20260420
DTEND;VALUE=DATE:20260425
DTSTAMP:20260423T113659
CREATED:20260327T233650Z
LAST-MODIFIED:20260423T175907Z
UID:10001377-1776643200-1777075199@www.go-vcs.com
SUMMARY:9th Grade - Candy/Shaved Ice Fundraiser
DESCRIPTION:
URL:https://www.go-vcs.com/event/9th-grade-candy-shaved-ice-fundraiser/
LOCATION:CA
CATEGORIES:School
END:VEVENT
BEGIN:VEVENT
DTSTART;TZID=America/Los_Angeles:20260423T160000
DTEND;TZID=America/Los_Angeles:20260423T173000
DTSTAMP:20260423T113659
CREATED:20260307T052811Z
LAST-MODIFIED:20260423T174353Z
UID:10001314-1776960000-1776965400@www.go-vcs.com
SUMMARY:Softball @Highlands
DESCRIPTION:
URL:https://www.go-vcs.com/event/softball-highlands/
LOCATION:Highlands High School\, 6601 Guthrie St\, North Highlands\, CA\, United States
CATEGORIES:High School Athletics
GEO:38.688296;-121.357708
X-APPLE-STRUCTURED-LOCATION;VALUE=URI;X-ADDRESS=Highlands High School 6601 Guthrie St North Highlands CA United States;X-APPLE-RADIUS=500;X-TITLE=6601 Guthrie St:geo:-121.357708,38.688296
END:VEVENT
BEGIN:VEVENT
DTSTART;TZID=America/Los_Angeles:20260423T160000
DTEND;TZID=America/Los_Angeles:20260423T180000
DTSTAMP:20260423T113659
CREATED:20260307T061353Z
LAST-MODIFIED:20260423T174353Z
UID:10001328-1776960000-1776967200@www.go-vcs.com
SUMMARY:Baseball @Highlands
DESCRIPTION:
URL:https://www.go-vcs.com/event/baseball-highlands/
LOCATION:Highlands High School\, 6601 Guthrie St\, North Highlands\, CA\, United States
CATEGORIES:High School Athletics
GEO:38.688296;-121.357708
X-APPLE-STRUCTURED-LOCATION;VALUE=URI;X-ADDRESS=Highlands High School 6601 Guthrie St North Highlands CA United States;X-APPLE-RADIUS=500;X-TITLE=6601 Guthrie St:geo:-121.357708,38.688296
END:VEVENT
BEGIN:VEVENT
DTSTART;TZID=America/Los_Angeles:20260423T160000
DTEND;TZID=America/Los_Angeles:20260423T180000
DTSTAMP:20260423T113659
CREATED:20260308T041340Z
LAST-MODIFIED:20260423T174354Z
UID:10001355-1776960000-1776967200@www.go-vcs.com
SUMMARY:Golf @Mesa Verde
DESCRIPTION:
URL:https://www.go-vcs.com/event/golf-mesa-verde/
LOCATION:Haggin Oaks Golf Complex\, 3645 Fulton Ave\, Sacramento\, CA\, United States
CATEGORIES:High School Athletics
GEO:38.630138;-121.401457
X-APPLE-STRUCTURED-LOCATION;VALUE=URI;X-ADDRESS=Haggin Oaks Golf Complex 3645 Fulton Ave Sacramento CA United States;X-APPLE-RADIUS=500;X-TITLE=3645 Fulton Ave:geo:-121.401457,38.630138
END:VEVENT
BEGIN:VEVENT
DTSTART;VALUE=DATE:20260424
DTEND;VALUE=DATE:20260425
DTSTAMP:20260423T113659
CREATED:20260307T043859Z
LAST-MODIFIED:20260423T175906Z
UID:10001246-1776988800-1777075199@www.go-vcs.com
SUMMARY:EL-Progress Reports Q4
DESCRIPTION:
URL:https://www.go-vcs.com/event/el-progress-reports-q4/
LOCATION:CA
CATEGORIES:School
END:VEVENT
BEGIN:VEVENT
DTSTART;TZID=America/Los_Angeles:20260424T183000
DTEND;TZID=America/Los_Angeles:20260424T203000
DTSTAMP:20260423T113659
CREATED:20260307T061353Z
LAST-MODIFIED:20260423T174354Z
UID:10001329-1777055400-1777062600@www.go-vcs.com
SUMMARY:Baseball VS Armijo
DESCRIPTION:
URL:https://www.go-vcs.com/event/baseball-vs-armijo/
LOCATION:CA
CATEGORIES:High School Athletics
END:VEVENT
BEGIN:VEVENT
DTSTART;TZID=America/Los_Angeles:20260425T180000
DTEND;TZID=America/Los_Angeles:20260425T210000
DTSTAMP:20260423T113659
CREATED:20260307T043859Z
LAST-MODIFIED:20260423T175907Z
UID:10001247-1777140000-1777150800@www.go-vcs.com
SUMMARY:50th Anniversary Gala
DESCRIPTION:
URL:https://www.go-vcs.com/event/50th-anniversary-gala/
LOCATION:Bally Keal Estate\, 4286 Suisun Valley Rd\, Vallejo\, CA\, United States
CATEGORIES:School
GEO:38.251225;-122.120111
X-APPLE-STRUCTURED-LOCATION;VALUE=URI;X-ADDRESS=Bally Keal Estate 4286 Suisun Valley Rd Vallejo CA United States;X-APPLE-RADIUS=500;X-TITLE=4286 Suisun Valley Rd:geo:-122.120111,38.251225
END:VEVENT
BEGIN:VEVENT
DTSTART;VALUE=DATE:20260427
DTEND;VALUE=DATE:20260430
DTSTAMP:20260423T113659
CREATED:20260420T172858Z
LAST-MODIFIED:20260423T175908Z
UID:10001386-1777248000-1777507199@www.go-vcs.com
SUMMARY:Swim Team Bake Sale
DESCRIPTION:
URL:https://www.go-vcs.com/event/swim-team-bake-sale/
LOCATION:CA
CATEGORIES:School
END:VEVENT
BEGIN:VEVENT
DTSTART;VALUE=DATE:20260427
DTEND;VALUE=DATE:20260501
DTSTAMP:20260423T113659
CREATED:20260307T043900Z
LAST-MODIFIED:20260423T175907Z
UID:10001248-1777248000-1777593599@www.go-vcs.com
SUMMARY:K-5 IOWA Testing
DESCRIPTION:
URL:https://www.go-vcs.com/event/k-5-iowa-testing/
LOCATION:CA
CATEGORIES:School
END:VEVENT
BEGIN:VEVENT
DTSTART;VALUE=DATE:20260427
DTEND;VALUE=DATE:20260502
DTSTAMP:20260423T113659
CREATED:20260307T043900Z
LAST-MODIFIED:20260423T175907Z
UID:10001249-1777248000-1777679999@www.go-vcs.com
SUMMARY:MS Spirit Week
DESCRIPTION:
URL:https://www.go-vcs.com/event/ms-spirit-week/
LOCATION:CA
CATEGORIES:School
END:VEVENT
BEGIN:VEVENT
DTSTART;VALUE=DATE:20260428
DTEND;VALUE=DATE:20260502
DTSTAMP:20260423T113659
CREATED:20260307T043901Z
LAST-MODIFIED:20260423T175907Z
UID:10001251-1777334400-1777679999@www.go-vcs.com
SUMMARY:5th Grade Camp
DESCRIPTION:
URL:https://www.go-vcs.com/event/5th-grade-camp/
LOCATION:CA
CATEGORIES:School
END:VEVENT
BEGIN:VEVENT
DTSTART;TZID=America/Los_Angeles:20260428T120000
DTEND;TZID=America/Los_Angeles:20260428T173000
DTSTAMP:20260423T113659
CREATED:20260323T231923Z
LAST-MODIFIED:20260423T174355Z
UID:10001367-1777377600-1777397400@www.go-vcs.com
SUMMARY:Track @Mesa Verde
DESCRIPTION:League Finals
URL:https://www.go-vcs.com/event/track-mesa-verde-2/
LOCATION:Mesa Verde High School\, 7501 Carriage Dr\, Citrus Heights\, CA\, United States
GEO:38.70211;-121.294915
X-APPLE-STRUCTURED-LOCATION;VALUE=URI;X-ADDRESS=Mesa Verde High School 7501 Carriage Dr Citrus Heights CA United States;X-APPLE-RADIUS=500;X-TITLE=7501 Carriage Dr:geo:-121.294915,38.70211
END:VEVENT
BEGIN:VEVENT
DTSTART;TZID=America/Los_Angeles:20260428T160000
DTEND;TZID=America/Los_Angeles:20260428T173000
DTSTAMP:20260423T113659
CREATED:20260307T052825Z
LAST-MODIFIED:20260423T174355Z
UID:10001315-1777392000-1777397400@www.go-vcs.com
SUMMARY:Softball @Golden Sierra
DESCRIPTION:
URL:https://www.go-vcs.com/event/softball-golden-sierra/
LOCATION:Golden Sierra High School\, 5101 Garden Valley Rd\, Garden Valley\, CA\, United States
CATEGORIES:High School Athletics
GEO:38.848351;-120.858188
X-APPLE-STRUCTURED-LOCATION;VALUE=URI;X-ADDRESS=Golden Sierra High School 5101 Garden Valley Rd Garden Valley CA United States;X-APPLE-RADIUS=500;X-TITLE=5101 Garden Valley Rd:geo:-120.858188,38.848351
END:VEVENT
BEGIN:VEVENT
DTSTART;TZID=America/Los_Angeles:20260428T160000
DTEND;TZID=America/Los_Angeles:20260428T180000
DTSTAMP:20260423T113659
CREATED:20260307T061353Z
LAST-MODIFIED:20260423T174354Z
UID:10001330-1777392000-1777399200@www.go-vcs.com
SUMMARY:Baseball @ Golden Sierra
DESCRIPTION:
URL:https://www.go-vcs.com/event/baseball-golden-sierra/
LOCATION:Golden Sierra High School\, 5101 Garden Valley Rd\, Garden Valley\, CA\, United States
CATEGORIES:High School Athletics
GEO:38.848351;-120.858188
X-APPLE-STRUCTURED-LOCATION;VALUE=URI;X-ADDRESS=Golden Sierra High School 5101 Garden Valley Rd Garden Valley CA United States;X-APPLE-RADIUS=500;X-TITLE=5101 Garden Valley Rd:geo:-120.858188,38.848351
END:VEVENT
BEGIN:VEVENT
DTSTART;TZID=America/Los_Angeles:20260430T160000
DTEND;TZID=America/Los_Angeles:20260430T173000
DTSTAMP:20260423T113659
CREATED:20260307T052825Z
LAST-MODIFIED:20260423T174355Z
UID:10001316-1777564800-1777570200@www.go-vcs.com
SUMMARY:Softball VS Golden Sierra
DESCRIPTION:Senior Night
URL:https://www.go-vcs.com/event/softball-vs-golden-sierra/
LOCATION:CA
CATEGORIES:High School Athletics
END:VEVENT
BEGIN:VEVENT
DTSTART;TZID=America/Los_Angeles:20260430T160000
DTEND;TZID=America/Los_Angeles:20260430T180000
DTSTAMP:20260423T113659
CREATED:20260307T061354Z
LAST-MODIFIED:20260423T174355Z
UID:10001331-1777564800-1777572000@www.go-vcs.com
SUMMARY:Baseball VS Golden Sierra
DESCRIPTION:
URL:https://www.go-vcs.com/event/baseball-vs-golden-sierra/
LOCATION:CA
CATEGORIES:High School Athletics
END:VEVENT
END:VCALENDAR